BEGIN:VCALENDAR
PRODID:-//AT Content Types//AT Event//EN
VERSION:1.0
BEGIN:VEVENT
DTSTART:20191205T120000Z
DTEND:20191205T131500Z
DCREATED:20191021T140914Z
UID:ATEvent-ddaf095ea7124512b5c2a76e456072f2
SEQUENCE:0
LAST-MODIFIED:20191125T123009Z
SUMMARY:Almoço: Cozido à Portuguesa
DESCRIPTION:Os estudantes do 2.º ano da Licenciatura de Gestão e Adm
 inistração Hoteleira convidam a participarem no almoço que se reali
 za quinta-feira\, dia 05 de dezembro.
LOCATION:Restaurante Aplicação
PRIORITY:3
TRANSP:0
END:VEVENT
END:VCALENDAR
