BEGIN:VCALENDAR
PRODID:-//AT Content Types//AT Event//EN
VERSION:2.0
METHOD:PUBLISH
BEGIN:VEVENT
DTSTAMP:20260425T102330Z
CREATED:20251023T135126Z
UID:ATEvent-24ad8b8b4d4140c2826f9d99efb9718e
LAST-MODIFIED:20251203T154523Z
SUMMARY:Confraria da Cerveja
DTSTART:20251218T190000Z
DTEND:20251218T203000Z
DESCRIPTION:Os estudantes do 3.º ano da Licenciatura de Gestão e Adm
 inistração Hoteleira dinamizam um jantar pedagógico.
LOCATION:RESHT | Restaurante-Aplicação
CLASS:PUBLIC
END:VEVENT
END:VCALENDAR
