BEGIN:VCALENDAR
PRODID:-//AT Content Types//AT Event//EN
VERSION:2.0
METHOD:PUBLISH
BEGIN:VEVENT
DTSTAMP:20260425T215350Z
CREATED:20180108T154045Z
UID:ATEvent-07c43231afa34ef9ae6570f450d47700
LAST-MODIFIED:20180108T154352Z
SUMMARY:Confraria do Pastel de Tentúgal
DTSTART:20180116T193000Z
DTEND:20180116T220000Z
DESCRIPTION:No próximo dia 16 de janeiro de 2018\, a Escola Superior 
 de Hotelaria e Turismo receberá a Confraria do Pastel Tentúgal no Re
 staurante Aplicação.
LOCATION:Restaurante Aplicação da ESHT
CATEGORIES:restauração
URL:http://restaurante.esht.ipp.pt/
CLASS:PUBLIC
END:VEVENT
END:VCALENDAR
