BEGIN:VCALENDAR
PRODID:-//AT Content Types//AT Event//EN
VERSION:2.0
METHOD:PUBLISH
BEGIN:VEVENT
DTSTAMP:20260424T051605Z
CREATED:20221129T130149Z
UID:ATEvent-dbe64495881a432797b460949a754733
LAST-MODIFIED:20221129T130503Z
SUMMARY:Confraria dos Sabores da Abóbora
DTSTART:20221206T190000Z
DTEND:20221206T203000Z
DESCRIPTION:Os estudantes do 3.º ano da Licenciatura de Gestão e Adm
 inistração Hoteleira dinamizam o jantar pedagógico que se realiza n
 o dia 6 de dezembro.
LOCATION:Restaurante-Aplicação
CLASS:PUBLIC
END:VEVENT
END:VCALENDAR
