BEGIN:VCALENDAR
PRODID:-//AT Content Types//AT Event//EN
VERSION:2.0
METHOD:PUBLISH
BEGIN:VEVENT
DTSTAMP:20260422T082958Z
CREATED:20181119T154546Z
UID:ATEvent-beac275fe3eb49938f08328f36bde43e
LAST-MODIFIED:20181128T155659Z
SUMMARY:Confraria dos Velhotes
DTSTART:20181129T193000Z
DTEND:20181129T193000Z
DESCRIPTION:No próximo dia 29 de novembro\, a Escola Superior de Hote
 laria e Turismo receberá a Confraria dos Velhotes no Restaurante Apli
 cação.
LOCATION:Restaurante Aplicação da ESHT
CLASS:PUBLIC
END:VEVENT
END:VCALENDAR
