BEGIN:VCALENDAR
PRODID:-//AT Content Types//AT Event//EN
VERSION:2.0
METHOD:PUBLISH
BEGIN:VEVENT
DTSTAMP:20260424T132036Z
CREATED:20171114T110056Z
UID:ATEvent-35db8e933cd34359938da48cffc0b201
LAST-MODIFIED:20171117T164448Z
SUMMARY:Confraria dos Sabores da Abóbora
DTSTART:20171130T190000Z
DTEND:20171130T220000Z
DESCRIPTION:No próximo dia 30 de novembro\, a Escola Superior de Hote
 laria e Turismo receberá a Confraria dos Sabores da Abóbora no Resta
 urante Aplicação.
LOCATION:Restaurante Aplicação da ESHT
CATEGORIES:restauração
URL:http://restaurante.esht.ipp.pt/
CLASS:PUBLIC
END:VEVENT
END:VCALENDAR
